BEGIN:VCALENDAR
VERSION:2.0
PRODID:-//Broil King BeNeLux - ECPv4.6.13//NONSGML v1.0//EN
CALSCALE:GREGORIAN
METHOD:PUBLISH
X-WR-CALNAME:Broil King BeNeLux
X-ORIGINAL-URL:https://www.barbecuebroilking.be/fr
X-WR-CALDESC:Évènements pour Broil King BeNeLux
BEGIN:VEVENT
DTSTART;TZID=UTC+1:20190824T113000
DTEND;TZID=UTC+1:20190824T143000
DTSTAMP:20190822T095845
CREATED:20180914T064139Z
LAST-MODIFIED:20190703T133221Z
UID:53623-1566646200-1566657000@www.barbecuebroilking.be
SUMMARY:Dégustation Broil King
DESCRIPTION:Voulez-vous maîtriser votre Broil King barbecue? Ensuite\, cet atelier est absolument indispensable pour vous! En trois heures\, nous allons vous apprendre ce que vous pouvez faire avec votre appareil et comment vous pouvez utiliser les différentes options – le grill\, la broche\, le couvercle\, les zones de température… – de façon optimale. Les accessoires Broil King utiles et ludiques sont également bien représentés. \nPendant cet atelier de trois heures\, nous travaillons avec plusieurs ingrédients afin que vous puissiez démarrer et conjurer une carte complète sur votre Broil King barbecue\, de l’entrée au dessert. Vous regardez\, aidez\, goûtez\, et appréciez un verre de vin délicieux ! À la fête suivante du Broil King! \n
URL:https://www.barbecuebroilking.be/fr/event/broil-king-degustatie-20/
LOCATION: Tiensesteenweg 386\, Leuven\, 3000
CATEGORIES:Broil King degustatie
ATTACH;FMTTYPE=image/jpeg:https://www.barbecuebroilking.be/wp-content/uploads/Workshop-013.jpg
END:VEVENT
BEGIN:VEVENT
DTSTART;TZID=UTC+1:20190828T190000
DTEND;TZID=UTC+1:20190828T220000
DTSTAMP:20190822T095845
CREATED:20190725T125954Z
LAST-MODIFIED:20190725T130138Z
UID:57138-1567018800-1567029600@www.barbecuebroilking.be
SUMMARY:Dégustation Broil King
DESCRIPTION:Voulez-vous maîtriser votre Broil King barbecue? Ensuite\, cet atelier est absolument indispensable pour vous! En trois heures\, nous allons vous apprendre ce que vous pouvez faire avec votre appareil et comment vous pouvez utiliser les différentes options – le grill\, la broche\, le couvercle\, les zones de température… – de façon optimale. Les accessoires Broil King utiles et ludiques sont également bien représentés. \nPendant cet atelier de trois heures\, nous travaillons avec plusieurs ingrédients afin que vous puissiez démarrer et conjurer une carte complète sur votre Broil King barbecue\, de l’entrée au dessert. Vous regardez\, aidez\, goûtez\, et appréciez un verre de vin délicieux ! À la fête suivante du Broil King! \n
URL:https://www.barbecuebroilking.be/fr/event/broil-king-degustatie-25/
LOCATION: Tiensesteenweg 386\, Leuven\, 3000
CATEGORIES:Broil King degustatie
ATTACH;FMTTYPE=image/jpeg:https://www.barbecuebroilking.be/wp-content/uploads/Workshop-013-1.jpg
END:VEVENT
BEGIN:VEVENT
DTSTART;TZID=UTC+1:20190831T113000
DTEND;TZID=UTC+1:20190831T143000
DTSTAMP:20190822T095845
CREATED:20180914T064220Z
LAST-MODIFIED:20190725T071437Z
UID:53626-1567251000-1567261800@www.barbecuebroilking.be
SUMMARY:Dégustation Broil King
DESCRIPTION:Voulez-vous maîtriser votre Broil King barbecue? Ensuite\, cet atelier est absolument indispensable pour vous! En trois heures\, nous allons vous apprendre ce que vous pouvez faire avec votre appareil et comment vous pouvez utiliser les différentes options – le grill\, la broche\, le couvercle\, les zones de température… – de façon optimale. Les accessoires Broil King utiles et ludiques sont également bien représentés. \nPendant cet atelier de trois heures\, nous travaillons avec plusieurs ingrédients afin que vous puissiez démarrer et conjurer une carte complète sur votre Broil King barbecue\, de l’entrée au dessert. Vous regardez\, aidez\, goûtez\, et appréciez un verre de vin délicieux ! À la fête suivante du Broil King! \n
URL:https://www.barbecuebroilking.be/fr/event/broil-king-degustatie-21/
LOCATION: Tiensesteenweg 386\, Leuven\, 3000
CATEGORIES:Broil King degustatie
ATTACH;FMTTYPE=image/jpeg:https://www.barbecuebroilking.be/wp-content/uploads/Workshop-013.jpg
END:VEVENT
BEGIN:VEVENT
DTSTART;TZID=UTC+1:20190907T113000
DTEND;TZID=UTC+1:20190907T143000
DTSTAMP:20190822T095845
CREATED:20180914T064248Z
LAST-MODIFIED:20190624T141422Z
UID:53629-1567855800-1567866600@www.barbecuebroilking.be
SUMMARY:Dégustation Broil King
DESCRIPTION:Voulez-vous maîtriser votre Broil King barbecue? Ensuite\, cet atelier est absolument indispensable pour vous! En trois heures\, nous allons vous apprendre ce que vous pouvez faire avec votre appareil et comment vous pouvez utiliser les différentes options – le grill\, la broche\, le couvercle\, les zones de température… – de façon optimale. Les accessoires Broil King utiles et ludiques sont également bien représentés. \nPendant cet atelier de trois heures\, nous travaillons avec plusieurs ingrédients afin que vous puissiez démarrer et conjurer une carte complète sur votre Broil King barbecue\, de l’entrée au dessert. Vous regardez\, aidez\, goûtez\, et appréciez un verre de vin délicieux ! À la fête suivante du Broil King! \n
URL:https://www.barbecuebroilking.be/fr/event/broil-king-degustatie-22/
LOCATION: Tiensesteenweg 386\, Leuven\, 3000
CATEGORIES:Broil King degustatie
ATTACH;FMTTYPE=image/jpeg:https://www.barbecuebroilking.be/wp-content/uploads/Workshop-013.jpg
END:VEVENT
BEGIN:VEVENT
DTSTART;TZID=UTC+1:20190911T190000
DTEND;TZID=UTC+1:20190911T220000
DTSTAMP:20190822T095845
CREATED:20190329T130814Z
LAST-MODIFIED:20190329T130814Z
UID:54696-1568228400-1568239200@www.barbecuebroilking.be
SUMMARY:Fingerfood & Burgers
DESCRIPTION:Des tapas\, des hors-d’oeuvre\, des amuse-gueules\, … rien de plus confortable qu’une soirée avec plein de petites bouchées! Ou que pensez-vous d’une vraie fête d’hamburgers dans votre jardin? Oui\, tout est possible sur votre barbecue Broil King. Notre chef partage ses recettes les plus populaires et son secret pour ce burger unique où les voisons perleront pendant des années. Venez découvrir les recettes de barbecue et d’hamburgers les plus délicieuses pendant cet atelier! \n
URL:https://www.barbecuebroilking.be/fr/event/fingerfood-burgers-2/
LOCATION: Tiensesteenweg 386\, Leuven\, 3000
CATEGORIES:Fingerfood & burgers
ATTACH;FMTTYPE=image/jpeg:https://www.barbecuebroilking.be/wp-content/uploads/0B4A0310-1.jpg
END:VEVENT
BEGIN:VEVENT
DTSTART;TZID=UTC+1:20190914T113000
DTEND;TZID=UTC+1:20190914T143000
DTSTAMP:20190822T095845
CREATED:20180914T064330Z
LAST-MODIFIED:20190624T141650Z
UID:53632-1568460600-1568471400@www.barbecuebroilking.be
SUMMARY:Dégustation Broil King
DESCRIPTION:Voulez-vous maîtriser votre Broil King barbecue? Ensuite\, cet atelier est absolument indispensable pour vous! En trois heures\, nous allons vous apprendre ce que vous pouvez faire avec votre appareil et comment vous pouvez utiliser les différentes options – le grill\, la broche\, le couvercle\, les zones de température… – de façon optimale. Les accessoires Broil King utiles et ludiques sont également bien représentés. \nPendant cet atelier de trois heures\, nous travaillons avec plusieurs ingrédients afin que vous puissiez démarrer et conjurer une carte complète sur votre Broil King barbecue\, de l’entrée au dessert. Vous regardez\, aidez\, goûtez\, et appréciez un verre de vin délicieux ! À la fête suivante du Broil King! \n
URL:https://www.barbecuebroilking.be/fr/event/broil-king-degustatie-23/
LOCATION: Tiensesteenweg 386\, Leuven\, 3000
CATEGORIES:Broil King degustatie
ATTACH;FMTTYPE=image/jpeg:https://www.barbecuebroilking.be/wp-content/uploads/Workshop-013.jpg
END:VEVENT
END:VCALENDAR